BEGIN:VCALENDAR
VERSION:2.0
PRODID:spatie/icalendar-generator
DESCRIPTION:Events from Centro de Documentación Europea
X-WR-CALDESC:Events from Centro de Documentación Europea
REFRESH-INTERVAL;VALUE=DURATION:PT1440M
X-PUBLISHED-TTL:PT1440M
BEGIN:VTIMEZONE
TZID:Etc/GMT-2
BEGIN:STANDARD
DTSTART:20200727T180000Z
TZOFFSETFROM:+0200
TZOFFSETTO:+0200
END:STANDARD
END:VTIMEZONE
BEGIN:VTIMEZONE
TZID:UTC
BEGIN:STANDARD
DTSTART:20250724T220839Z
TZOFFSETFROM:+0000
TZOFFSETTO:+0000
END:STANDARD
END:VTIMEZONE
BEGIN:VEVENT
UID:117-29
DTSTAMP:20260420T220839Z
SUMMARY:9ª QUEDADA EUROPA
LOCATION:
ORGANIZER;CN=José M. Prieto:MAILTO:mjjl@us.es
DTSTART;TZID=Etc/GMT-2:20210423T180000
DTEND;TZID=Etc/GMT-2:20210423T193000
X-ALT-DESC;FMTTYPE=TEXT/HTML:
CATEGORIES:General
URL;VALUE=URI:https://cde.us.es/mc-events/9a-quedada-europa/
METHOD:PUBLISH
END:VEVENT
END:VCALENDAR